BEGIN:VCALENDAR
VERSION:2.0
PRODID:-//eventon.com NONSGML v1.0//EN
CALSCALE:GREGORIAN
METHOD:PUBLISH
BEGIN:VEVENT
UID:69ed0d18286dd
DTSTAMP:20260425T185104Z
DTSTART:20260311T180000Z
DTEND:20260504T105900Z
LOCATION:
SUMMARY:Prix Pierre & Alexandra Boulat 2026
DESCRIPTION:Photo : Â© Thomas Morel-Fort. ObÃ©sitÃ© en Chine\,  projet laur
 Ã©at 2025 Dans le but dâ€™encourager le travail des photojournalistes qui s
 e heurtent aux difficultÃ©s Ã©conomiques du mÃ©tier de photojournaliste lâ€
 ™Association dÃ©cerne un Prix de 8000\, 00 â‚¬\,  dotÃ© pour la premiÃ¨re a
 nnÃ©e par le Douglas Kirkland Estate. Ce Prix est attribuÃ©\, [..]\nhttps:/
 /www.9lives-magazine.com/events/prix-pierre-alexandra-boulat-2026/
URL:https://www.9lives-magazine.com/events/prix-pierre-alexandra-boulat-2026/
END:VEVENT
END:VCALENDAR