BEGIN:VCALENDAR
VERSION:2.0
PRODID:-//eventon.com NONSGML v1.0//EN
CALSCALE:GREGORIAN
METHOD:PUBLISH
BEGIN:VEVENT
UID:69e53b0b024ca
DTSTAMP:20260419T202859Z
DTSTART:20260509T143000Z
DTEND:20260531T190000Z
LOCATION:ItinÃ©rances Foto Quai du GÃ©nÃ©ral Durand\,  34200 SÃ¨te\,  France
SUMMARY:ItinÃ©rances foto SÃ¨te
DESCRIPTION:Photo : Â© DolorÃ¨s Marat Quatre ans dÃ©jÃ  ! ItinÃ©rances Foto
  &#8211; IFÃ£ &#8211; grandit\,  murit\,  sâ€™enrichit en tissant des liens
  avec les institutions culturelles sÃ©toises et sâ€™ouvre Ã  la nouvelle gÃ
 ©nÃ©ration de photographes. Du 9 au 31 mai\,  trente-neuf photographes vena
 nt de France et dâ€™Europe proposeront leurs oeuvres dans[..]\nhttps://www.
 9lives-magazine.com/events/itinerances-foto-sete-2026/
URL:https://www.9lives-magazine.com/events/itinerances-foto-sete-2026/
END:VEVENT
END:VCALENDAR