BEGIN:VCALENDAR
VERSION:2.0
PRODID:-//eventon.com NONSGML v1.0//EN
CALSCALE:GREGORIAN
METHOD:PUBLISH
BEGIN:VEVENT
UID:69e53b428ba63
DTSTAMP:20260419T202954Z
DTSTART:20260606T100000Z
DTEND:20260906T180000Z
LOCATION:
SUMMARY:Deauville Sport Images Festival
DESCRIPTION:Du 6 juin au 6 septembre 2026\,  Deauville accueillera la deuxi
 ème édition du Deauville Sport Images Festival. Après un premier rendez-
 vous en 2025 salué par le public et les professionnels\,  le festival revi
 ent pour partager une nouvelle saison d’expositions et de rencontres. Il 
 célèbre la puissance du geste sportif et[..]\nhttps://www.9lives-magazine
 .com/events/deauville-sport-images-festival-2/
URL:https://www.9lives-magazine.com/events/deauville-sport-images-festival-2/
END:VEVENT
END:VCALENDAR