BEGIN:VCALENDAR
VERSION:2.0
PRODID:-//eventon.com NONSGML v1.0//EN
CALSCALE:GREGORIAN
METHOD:PUBLISH
BEGIN:VEVENT
UID:69e53b39d964a
DTSTAMP:20260419T202945Z
DTSTART:20260706
DTEND:20260707
LOCATION:Lee Ufan Arles 5 rue de Vernon 13200 Arles
SUMMARY:Park Chan-wook
DESCRIPTION:Faces 13\,  2023 © Park Chan-wook Dans le cadre de sa programm
 ation temporaire estivale et des 140 ans de la diplomatie France- Corée\,
   Lee Ufan Arles est heureux de présenter pour la première fois en Euro
 pe le travail photographique du réalisateur coréen de renommée intern
 ationale Park Chan-wook. L’exposition Park Chan-wook\, [..]\nhttps://www.
 9lives-magazine.com/events/park-chan-wook-par-un-matin-calme/
URL:https://www.9lives-magazine.com/events/park-chan-wook-par-un-matin-calme/
END:VEVENT
END:VCALENDAR