BEGIN:VCALENDAR
VERSION:2.0
PRODID:-//eventon.com NONSGML v1.0//EN
CALSCALE:GREGORIAN
METHOD:PUBLISH
BEGIN:VEVENT
UID:69ea0cef61283
DTSTAMP:20260423T121335Z
DTSTART:20260429
DTEND:20260430
LOCATION:Galerie Porte B 52 rue Albert Thomas 75010 Paris
SUMMARY:Ce qui reste
DESCRIPTION:Photo : © Shanna Warocquier À l’endroit fragile où la mém
 oire vacille\,  où les corps\,  les lieux et les récits se transforment\,
   subsistent des traces. Ce qui reste réunit plusieurs artistes dont les p
 ratiques interrogent la persistance : celle des êtres\,  des gestes\,  des
  images et des sensations qui demeurent[..]\nhttps://www.9lives-magazine.co
 m/events/ce-qui-reste/
URL:https://www.9lives-magazine.com/events/ce-qui-reste/
END:VEVENT
END:VCALENDAR