BEGIN:VCALENDAR
VERSION:2.0
PRODID:-//eventon.com NONSGML v1.0//EN
CALSCALE:GREGORIAN
METHOD:PUBLISH
BEGIN:VEVENT
UID:69ea05c7b0248
DTSTAMP:20260423T114303Z
DTSTART:20260508T013000Z
DTEND:20260621T060000Z
LOCATION:Ithaque - Chambre noire 5 Rue Des Haudriettes 75003 Paris
SUMMARY:Mehran Mohajer
DESCRIPTION:Cette exposition est co organisée par Ithaque et la Zaal Art G
 allery. Depuis plus de trente ans\,  Mehran Mohajer explore la photographie
  en tant que langage à part entière\,  un espace où l’image ne se cont
 ente pas de montrer\,  mais où elle réfléchit\,  hésite et vacille. Né
  en 1964\,  vivant[..]\nhttps://www.9lives-magazine.com/events/mehran-mohaj
 er/
URL:https://www.9lives-magazine.com/events/mehran-mohajer/
END:VEVENT
END:VCALENDAR