BEGIN:VCALENDAR
VERSION:2.0
PRODID:-//eventon.com NONSGML v1.0//EN
CALSCALE:GREGORIAN
METHOD:PUBLISH
BEGIN:VEVENT
UID:69ea0a5e61896
DTSTAMP:20260423T120238Z
DTSTART:20260430T210000Z
DTEND:20260607T050000Z
LOCATION:Galerie Crève Cœur 9 rue des Cascades 75020 Paris
SUMMARY:Julien Carreyn
DESCRIPTION:Il s&rsquo;agit de ma sixième exposition à la galerie Crèvec
 œur. Le titre en sera « Exposition Personnelle ». Voici ce que j’en sa
 is : sur les murs du 5 rue de Beaune\,  une sélection de 4 petites photogr
 aphies en noir et blanc autour du thème des vacances\,  des cousin.es –[
 ..]\nhttps://www.9lives-magazine.com/events/julien-carreyn-exposition-perso
 nnelle/
URL:https://www.9lives-magazine.com/events/julien-carreyn-exposition-personnelle/
END:VEVENT
END:VCALENDAR