BEGIN:VCALENDAR
VERSION:2.0
PRODID:-//eventon.com NONSGML v1.0//EN
CALSCALE:GREGORIAN
METHOD:PUBLISH
BEGIN:VEVENT
UID:69ea0aca33672
DTSTAMP:20260423T120426Z
DTSTART:20260425
DTEND:20260426
LOCATION:Galerie PARALLAX - Créations photographiques 3 rue des Epinaux 13100 Aix en Provence
SUMMARY:Essentia
DESCRIPTION:Photo : © Steffen Diemer Essentia est une exploration de ce qu
 i subsiste lorsque l’image se dépouille. Ici\,  la lumière ne décrit p
 as — elle révèle. Les sujets deviennent architecture\,  la matière dev
 ient langage\,  le silence devient tension. Entre mémoire et présence\,  
 Essentia interroge l’essentiel : ce qui demeure lorsque[..]\nhttps://www.
 9lives-magazine.com/events/essentia-steffen-diemer-bertrand-hugues/
URL:https://www.9lives-magazine.com/events/essentia-steffen-diemer-bertrand-hugues/
END:VEVENT
END:VCALENDAR