BEGIN:VCALENDAR
VERSION:2.0
PRODID:-//eventon.com NONSGML v1.0//EN
CALSCALE:GREGORIAN
METHOD:PUBLISH
BEGIN:VEVENT
UID:69ea0b7f24600
DTSTAMP:20260423T120727Z
DTSTART:20260611
DTEND:20260612
LOCATION:Ateliers des Capucins 25 Rue de Pontaniou\,  29200 Brest
SUMMARY:Stéphane Lavoué
DESCRIPTION:Photo : © Stéphane Lavoué &#8211; Hangar hélicoptère de la
  frégate multi-missions FREMM Bretagne\,  mai 2025 À l’occasion des 400
  ans de la Marine nationale\,  les Ateliers des Capucins à Brest en parten
 ariat avec la Comédie-Française et la Marine nationale exposent “Navire
  amiral “ du 11 juin au 30 septembre[..]\nhttps://www.9lives-magazine.com
 /events/stephane-lavoue-navire-amiral-2/
URL:https://www.9lives-magazine.com/events/stephane-lavoue-navire-amiral-2/
END:VEVENT
END:VCALENDAR