BEGIN:VCALENDAR
VERSION:2.0
PRODID:-//eventon.com NONSGML v1.0//EN
CALSCALE:GREGORIAN
METHOD:PUBLISH
BEGIN:VEVENT
UID:69ea05be1d182
DTSTAMP:20260423T114254Z
DTSTART:20260424T200000Z
DTEND:20260510T050000Z
LOCATION:Galerie MIA 9 rue des Balances 34000 Montpellier
SUMMARY:Letizia Le Fur
DESCRIPTION:Avec Mythologies\,  Letizia Le Fur ouvre un monde où réalité
  et fiction se mêlent\,  où la photographie devient matière et récit po
 étique. Inspirée par les mythes antiques\,  elle les réinterprète libre
 ment\,  offrant un espace où la beauté surgit comme évidence\,  fragile 
 et bouleversante. Le cycle se déploie en trois temps.[..]\nhttps://www.9li
 ves-magazine.com/events/letizia-le-fur-mythologies-2019-2023/
URL:https://www.9lives-magazine.com/events/letizia-le-fur-mythologies-2019-2023/
END:VEVENT
END:VCALENDAR