BEGIN:VCALENDAR
VERSION:2.0
PRODID:-//eventon.com NONSGML v1.0//EN
CALSCALE:GREGORIAN
METHOD:PUBLISH
BEGIN:VEVENT
UID:69ea08968ba39
DTSTAMP:20260423T115502Z
DTSTART:20260126T200000Z
DTEND:20260530T050000Z
LOCATION:Galerie H / Théâtre de la vignette - Université Paul Valery Route de Mende 34199 Montpellier
SUMMARY:Sandra Mehl
DESCRIPTION:À l’extrémité de la Louisiane\,  à 130 km au sud de La No
 uvelle-Orléans\,  l’Isle de Jean-Charles sombre peu à peu. Réduite à 
 3 km de long sur 300 m de large\,  elle a perdu 98 % de sa surface depuis 1
 955. En cause : la montée des eaux\,  l’érosion côtière\, [..]\nhttps
 ://www.9lives-magazine.com/events/sandra-mehl-fading-into-the-blue-louisian
 e-les-premiers-refugies-climatiques-des-etats-unis/
URL:https://www.9lives-magazine.com/events/sandra-mehl-fading-into-the-blue-louisiane-les-premiers-refugies-climatiques-des-etats-unis/
END:VEVENT
END:VCALENDAR