BEGIN:VCALENDAR
VERSION:2.0
PRODID:-//eventon.com NONSGML v1.0//EN
CALSCALE:GREGORIAN
METHOD:PUBLISH
BEGIN:VEVENT
UID:69ea05e2b9863
DTSTAMP:20260423T114330Z
DTSTART:20260706
DTEND:20260707
LOCATION:Vague 14 rue de Grille 13200 Arles
SUMMARY:From Our Windows
DESCRIPTION:Photo : Untitled\,  from the series « as it is »\,  2020 ©
 ︎ Rinko Kawauchi Deux regards majeurs de la photographie japonaise se cro
 isent ici pour explorer\,  chacun à leur manière\,  l’intimité du foye
 r\,  les liens familiaux et la trame du quotidien. From Our Windows est une
  double exposition née il y[..]\nhttps://www.9lives-magazine.com/events/fr
 om-our-windows-rinko-kawauchi-tokuko-ushioda/
URL:https://www.9lives-magazine.com/events/from-our-windows-rinko-kawauchi-tokuko-ushioda/
END:VEVENT
END:VCALENDAR