BEGIN:VCALENDAR
VERSION:2.0
PRODID:-//eventon.com NONSGML v1.0//EN
CALSCALE:GREGORIAN
METHOD:PUBLISH
BEGIN:VEVENT
UID:69ed1f47559ac
DTSTAMP:20260425T200839Z
DTSTART:20260401T010000Z
DTEND:20260731T235900Z
LOCATION:
SUMMARY:Prix de la Photo Camera Clara
DESCRIPTION:Photo : Carleton Watkins\,  Yosemite Valley from the best Gener
 al View 1866 Créé en 2012\,  le prix photo Camera Clara est réservé aux
  artistes qui travaillent à la chambre photographique. Il récompense un 
 travail d’auteur\,  inédit et présenté en série ou ensemble photogra
 phique afin qu’il puisse être jugé sur sa[..]\nhttps://www.9lives-magaz
 ine.com/events/prix-de-la-photo-camera-clara/
URL:https://www.9lives-magazine.com/events/prix-de-la-photo-camera-clara/
END:VEVENT
END:VCALENDAR