BEGIN:VCALENDAR
VERSION:2.0
PRODID:-//eventon.com NONSGML v1.0//EN
CALSCALE:GREGORIAN
METHOD:PUBLISH
BEGIN:VEVENT
UID:69e766a939b2e
DTSTAMP:20260421T115937Z
DTSTART:20260523T210000Z
DTEND:20260622T050000Z
LOCATION:
SUMMARY:Festival Présence(s) photographie 2026
DESCRIPTION:Photo : © Steeve Iuncker PRÉSENCE(S) SUISSE AUTOUR DE NICOLAS
  BOUVIER Saison Photographique 2026 à Montélimar et le long du Rhône. Po
 ur sa treizième édition\,  le Festival de photographie Présence(s) de Mo
 ntélimar choisit de mettre à l’honneur la création photographique suis
 se. Fidèle à son ambition d’explorer la diversité des écritures[..]\n
 https://www.9lives-magazine.com/events/festival-presences-photographie-2026
 /
URL:https://www.9lives-magazine.com/events/festival-presences-photographie-2026/
END:VEVENT
END:VCALENDAR