BEGIN:VCALENDAR
VERSION:2.0
PRODID:-//eventon.com NONSGML v1.0//EN
CALSCALE:GREGORIAN
METHOD:PUBLISH
BEGIN:VEVENT
UID:69ea0ad457115
DTSTAMP:20260423T120436Z
DTSTART:20260505T210000Z
DTEND:20260530T050000Z
LOCATION:La Maison des Photographes - UPP 11\,  rue de Belzunce 75010 Paris
SUMMARY:Antoine Vincens de Tapol
DESCRIPTION:Les photographies présentées sont celles de mes grands-parent
 s ainsi que les miennes. Peu importe si les lieux\,  les légendes devienne
 nt interchangeables. Puisque depuis les premiers voyages\,  depuis toujours
 \,  nos récits s&rsquo;attachent à fantasmer l&rsquo;ailleurs\,  à parti
 r de récits antérieurs. Le voyage est une fiction qui se construit sur un
 e nostalgie[..]\nhttps://www.9lives-magazine.com/events/antoine-vincens-de-
 tapol-les-paradis-perdus/
URL:https://www.9lives-magazine.com/events/antoine-vincens-de-tapol-les-paradis-perdus/
END:VEVENT
END:VCALENDAR