BEGIN:VCALENDAR
VERSION:2.0
PRODID:-//eventon.com NONSGML v1.0//EN
CALSCALE:GREGORIAN
METHOD:PUBLISH
BEGIN:VEVENT
UID:69e79d9b2778f
DTSTAMP:20260421T155403Z
DTSTART:20260613T210000Z
DTEND:20260831T050000Z
LOCATION:
SUMMARY:Festival Photo Martagny 2026
DESCRIPTION:Photo : © Tateyuki Adachi Du 13 juin au 30 août 2026\,  le Fe
 stival Photo Martagny revient pour sa 9e édition au cœur du Vexin normand
  (Eure). Depuis 2018\,  ce rendez-vous singulier transforme chaque été le
  village de Martagny en un espace d’exposition à ciel ouvert\,  où les 
 œuvres s’inscrivent[..]\nhttps://www.9lives-magazine.com/events/festival
 -photo-martagny-2026/
URL:https://www.9lives-magazine.com/events/festival-photo-martagny-2026/
END:VEVENT
END:VCALENDAR