BEGIN:VCALENDAR
VERSION:2.0
PRODID:-//eventon.com NONSGML v1.0//EN
CALSCALE:GREGORIAN
METHOD:PUBLISH
BEGIN:VEVENT
UID:69e79daf79cda
DTSTAMP:20260421T155423Z
DTSTART:20260626
DTEND:20260627
LOCATION:
SUMMARY:CARGO\,  les photographiques de Saint-Nazaire #6
DESCRIPTION:Photo : Saint-Nazaire 2025 © Émeline Sauser En 2026\,  CARGO\
 ,  les photographiques de Saint-Nazaire explore le territoire de la plage. 
 Espace singulier et vivant où se conservent les souvenirs\,  où s’entre
 tient le désir de vacances lumineuses\,  où se cultivent les envies de li
 berté\,  la plage mérite qu’on s’y attarde à[..]\nhttps://www.9lives
 -magazine.com/events/cargo-les-photographiques-de-saint-nazaire-6/
URL:https://www.9lives-magazine.com/events/cargo-les-photographiques-de-saint-nazaire-6/
END:VEVENT
END:VCALENDAR