BEGIN:VCALENDAR
VERSION:2.0
PRODID:-//eventon.com NONSGML v1.0//EN
CALSCALE:GREGORIAN
METHOD:PUBLISH
BEGIN:VEVENT
UID:69ebdba9e1326
DTSTAMP:20260424T210753Z
DTSTART:20260507
DTEND:20260508
LOCATION:L&#039;Inapeçu 65 rue Beaubourg 75001 Paris
SUMMARY:Barnabé Moinard  SOMETHING DIFFERENT
DESCRIPTION:L’Inaperçu-Studio x Barnabé Moinard À partir du mois de ma
 i\,  Barnabé Moinard va investir l&rsquo;Inaperçu Studio\,  situé au 32 
 rue de Montmorency\,  en face de la librairie de photographie et du restaur
 ant éponyme pour faire de cet espace d&rsquo;exposition un lieu consacré 
 à la photographie vintage. L&rsquo;ambition est d&rsquo;en faire[..]\nhttp
 s://www.9lives-magazine.com/events/barnabe-moinard-something-different-phot
 ographies-vintage/
URL:https://www.9lives-magazine.com/events/barnabe-moinard-something-different-photographies-vintage/
END:VEVENT
END:VCALENDAR