BEGIN:VCALENDAR
VERSION:2.0
PRODID:-//eventon.com NONSGML v1.0//EN
CALSCALE:GREGORIAN
METHOD:PUBLISH
BEGIN:VEVENT
UID:69ec18884caad
DTSTAMP:20260425T012736Z
DTSTART:20260506T230000Z
DTEND:20260605T130000Z
LOCATION:Quai de la Photo Centre d’art photographique 9 port de la Gare 75013 Paris
SUMMARY:Les traversées d'Anita Conti
DESCRIPTION:À Quai de la Photo\,  l’exposition d’Anita Conti\,  prése
 ntée du 6 mai au 5 juin 2026 dans la salle d’exposition\,  met à l’ho
 nneur une figure majeure et pionnière. À travers une trentaine de photogr
 aphies réalisées lors de ses travaux en mer\,  parfois dans des condition
 s difficiles\,  elle dévoile un regard[..]\nhttps://www.9lives-magazine.co
 m/events/les-traversees-danita-conti-entre-documentaire-et-poesie/
URL:https://www.9lives-magazine.com/events/les-traversees-danita-conti-entre-documentaire-et-poesie/
END:VEVENT
END:VCALENDAR