BEGIN:VCALENDAR
VERSION:2.0
PRODID:-//eventon.com NONSGML v1.0//EN
CALSCALE:GREGORIAN
METHOD:PUBLISH
BEGIN:VEVENT
UID:69e5114fb9465
DTSTAMP:20260419T173055Z
DTSTART:20190309T130000Z
DTEND:20190526T170000Z
LOCATION:CRP/ Centre régional de la photographie Hauts-de-France Place des Nations 59282 Douchy-les-Mines
SUMMARY:Geof Oppenheimer\,  exposition monographique
DESCRIPTION:Le CRP/ invite l’artiste américain Geof Oppenheimer à dépl
 oyer un nouveau projet d’exposition dans sa galerie. Cette exposition par
 ticipe d’une séquence de projets dans et hors-les-murs plus large sur le
  thème de la relation de l’art aux forces économiques et du travail que
  développera le CRP/ au printemps. Le travail[..]\nhttps://www.9lives-maga
 zine.com/events/geof-oppenheimer-exposition-monographique/
URL:https://www.9lives-magazine.com/events/geof-oppenheimer-exposition-monographique/
END:VEVENT
END:VCALENDAR