BEGIN:VCALENDAR
VERSION:2.0
PRODID:-//eventon.com NONSGML v1.0//EN
CALSCALE:GREGORIAN
METHOD:PUBLISH
BEGIN:VEVENT
UID:69ec237d2b709
DTSTAMP:20260425T021421Z
DTSTART:20190404T120000Z
DTEND:20190601T190000Z
LOCATION:Galerie Camera Obscura 268 Boulevard Raspail 75014 Paris
SUMMARY:Ingar Krauss
DESCRIPTION:Photographe allemand\,  né en 1965 à Berlin\,  Ingar Krauss h
 abite une ancienne ferme\,  cultive un potager\,  élève des animaux : une
  relation quotidienne à la nature qui est devenu le sujet privilégié de 
 sa photographie. Il réalise lui-même ses tirages argentiques noir et blan
 c avant de les peindre à l&rsquo;huile[..]\nhttps://www.9lives-magazine.co
 m/events/ingar-krauss/
URL:https://www.9lives-magazine.com/events/ingar-krauss/
END:VEVENT
END:VCALENDAR