BEGIN:VCALENDAR
VERSION:2.0
PRODID:-//eventon.com NONSGML v1.0//EN
CALSCALE:GREGORIAN
METHOD:PUBLISH
BEGIN:VEVENT
UID:69e90be8d558c
DTSTAMP:20260422T175656Z
DTSTART:20190329T140000Z
DTEND:20190519T180000Z
LOCATION:Espace Culturel Séraphine Louis 11 Rue du Donjon\,  60600 Clermont
SUMMARY:Douce Russie
DESCRIPTION:Il est russe\,  n’a jamais eu de grande exposition en France\
 ,  et ses photos en noir et blanc rappellent celles de Cartier-Bresson et K
 oudelka\,  des maîtres dont il se revendique. Emil Gataullin a passé son 
 enfance dans un petit village à l’écart de Moscou et c’est cette Russ
 ie rurale\,  intemporelle\, [..]\nhttps://www.9lives-magazine.com/events/do
 uce-russie-emil-gataullin/
URL:https://www.9lives-magazine.com/events/douce-russie-emil-gataullin/
END:VEVENT
END:VCALENDAR