BEGIN:VCALENDAR
VERSION:2.0
PRODID:-//eventon.com NONSGML v1.0//EN
CALSCALE:GREGORIAN
METHOD:PUBLISH
BEGIN:VEVENT
UID:69e56e6af1319
DTSTAMP:20260420T000810Z
DTSTART:20190328T110000Z
DTEND:20190728T190000Z
LOCATION:Institut des Cultures d’Islam 56\,  rue Stephenson 75018 Paris
SUMMARY:C'est Beyrouth
DESCRIPTION:À travers un parcours divisé en 4 grandes parties – Le spec
 tre de la guerre ; La ville multiconfessionnelle ; Le corps comme marqueur 
 identitaire ; Des minorités ignorées – les œuvres présentées des 15 
 photographes et vidéastes témoignent de la place de l’individu\,  de la
  religion et de la[..]\nhttps://www.9lives-magazine.com/events/cest-beyrout
 h/
URL:https://www.9lives-magazine.com/events/cest-beyrouth/
END:VEVENT
END:VCALENDAR