BEGIN:VCALENDAR
VERSION:2.0
PRODID:-//eventon.com NONSGML v1.0//EN
CALSCALE:GREGORIAN
METHOD:PUBLISH
BEGIN:VEVENT
UID:69e95e50c5971
DTSTAMP:20260422T234832Z
DTSTART:20190410T130000Z
DTEND:20190525T183000Z
LOCATION:MAC - Maison des Arts de Créteil 1 Place Salvador Allende\,  94000 Créteil
SUMMARY:PINOCCHIO(S)
DESCRIPTION:Invitée à réaliser la première de couverture d’un magazin
 e consacré aux arts de la marionnette\,  je choisis de dialoguer avec le m
 ythe de Pinocchio. Plus précisément\,  je m’intéresse à l’instant d
 e la métamorphose du pantin en humain. Je me demande à quoi ressemble le 
 corps de Pinocchio quand il passe[..]\nhttps://www.9lives-magazine.com/even
 ts/pinocchios-alice-laloy/
URL:https://www.9lives-magazine.com/events/pinocchios-alice-laloy/
END:VEVENT
END:VCALENDAR