BEGIN:VCALENDAR
VERSION:2.0
PRODID:-//eventon.com NONSGML v1.0//EN
CALSCALE:GREGORIAN
METHOD:PUBLISH
BEGIN:VEVENT
UID:69e871d0d9557
DTSTAMP:20260422T065928Z
DTSTART:20190319T110000Z
DTEND:20190413T190000Z
LOCATION:La nouvelle chambre claire 3 Rue d'Arras\,  75005 Paris
SUMMARY:USA Summer 2017
DESCRIPTION:Cette nouvelle série est un voyage haut en couleurs à travers
  les États-Unis\,  dans la lignée du travail photographique de Marion Dub
 ier-Clark déjà publié dans différents ouvrages\,  dont notamment « Fr
 om Florida to Cuba » (2015) et « From Tokyo to Kyoto » (2017). Marion
  Dubier-Clark est ambassadrice Fujifilm pour la Série X depuis[..]\nhttps:
 //www.9lives-magazine.com/events/usa-summer-2017-marion-dubier-clark/
URL:https://www.9lives-magazine.com/events/usa-summer-2017-marion-dubier-clark/
END:VEVENT
END:VCALENDAR