BEGIN:VCALENDAR
VERSION:2.0
PRODID:-//eventon.com NONSGML v1.0//EN
CALSCALE:GREGORIAN
METHOD:PUBLISH
BEGIN:VEVENT
UID:69e574353481a
DTSTAMP:20260420T003253Z
DTSTART:20190415T133000Z
DTEND:20190713T183000Z
LOCATION:Galerie FAIT &amp; CAUSE 58 rue Quincampoix 75004 Paris
SUMMARY:Lauréats du Concours SOPHOT 2019
DESCRIPTION:La Galerie Fait &#038; Cause accueille les deux lauréats du Co
 ncours SOPHOT 2019. Il s&rsquo;agit de Gilles Nicolet &#038; Isabeau de Rou
 ffignac. Le premier remporte le prix avec sa série sur Zanzibar\,  en proi
 e au changement climatique et la seconde\,  avec une série de portraits 3
 5 ans après la catastrophe de[..]\nhttps://www.9lives-magazine.com/events/
 laureats-concours-sophot-2019-gilles-nicolet-isabeau-de-rouffignac/
URL:https://www.9lives-magazine.com/events/laureats-concours-sophot-2019-gilles-nicolet-isabeau-de-rouffignac/
END:VEVENT
END:VCALENDAR