BEGIN:VCALENDAR
VERSION:2.0
PRODID:-//eventon.com NONSGML v1.0//EN
CALSCALE:GREGORIAN
METHOD:PUBLISH
BEGIN:VEVENT
UID:69eb5af8e5fa3
DTSTAMP:20260424T115848Z
DTSTART:20190618T110000Z
DTEND:20190922T190000Z
LOCATION:Jeu de Paume 1\,  place de la Concorde 75008 Paris
SUMMARY:De proche en proche
DESCRIPTION:Le travail de Marc Pataut (nÃ© Ã  Paris en 1952) traite du rapp
 ort des individus Ã  eux-mÃªmes et Ã  la sociÃ©tÃ©\,  faisant apparaÃ®tre Ã
   lâ€™image des visages\,  des corps\,  des appartenances\,  des parcours d
 e vie. Ses projets sont Ã©laborÃ©s sur une longue durÃ©e et au sein de terr
 itoires diffÃ©rents. Lâ€™accumulation[..]\nhttps://www.9lives-magazine.com/
 events/de-proche-proche-marc-pataut/
URL:https://www.9lives-magazine.com/events/de-proche-proche-marc-pataut/
END:VEVENT
END:VCALENDAR