BEGIN:VCALENDAR
VERSION:2.0
PRODID:-//eventon.com NONSGML v1.0//EN
CALSCALE:GREGORIAN
METHOD:PUBLISH
BEGIN:VEVENT
UID:69e6c3ec9a788
DTSTAMP:20260421T002516Z
DTSTART:20190419T000000Z
DTEND:20190906T000000Z
LOCATION:Centre Culturel Canadien 130 Rue du Faubourg Saint-HonorÃ©\,  75008 Paris
SUMMARY:Elaine Stocki
DESCRIPTION:Les plus rÃ©centes photographies et aquarelles de lâ€™artiste c
 anadienne Elaine StockiÂ sontÂ rÃ©unies pour la premiÃ¨re fois Ã  lâ€™occas
 ion de cette exposition personnelle majeure produite par le Centre culturel
  canadien. Dans cette exposition\,  lâ€™artiste nous oblige Ã  faire face Ã
   nos a priori en utilisant le contraste de lâ€™ombre et de la[..]\nhttps:/
 /www.9lives-magazine.com/events/elaine-stocki/
URL:https://www.9lives-magazine.com/events/elaine-stocki/
END:VEVENT
END:VCALENDAR