BEGIN:VCALENDAR
VERSION:2.0
PRODID:-//eventon.com NONSGML v1.0//EN
CALSCALE:GREGORIAN
METHOD:PUBLISH
BEGIN:VEVENT
UID:69e6517ae8c27
DTSTAMP:20260420T161658Z
DTSTART:20190413T093000Z
DTEND:20191103T190000Z
LOCATION:Fondation Carmignac Piste de la Courtade\,  83400 HyÃ¨res
SUMMARY:La Source
DESCRIPTION:La Fondation Carmignac est heureuse de vous accueillir sur son 
 site de Porquerolles du 13 avril au 3 novembre 2019. Pour sa deuxiÃ¨me annÃ
 ©e dâ€™ouverture\,  la Fondation a invitÃ© la commissaire Chiara Parisi Ã  
 imaginer une exposition Â« La Source Â» puisant son inspiration dans lâ€™ar
 chitecture de la Villa\,  lâ€™Ã®le[..]\nhttps://www.9lives-magazine.com/eve
 nts/la-source/
URL:https://www.9lives-magazine.com/events/la-source/
END:VEVENT
END:VCALENDAR