BEGIN:VCALENDAR
VERSION:2.0
PRODID:-//eventon.com NONSGML v1.0//EN
CALSCALE:GREGORIAN
METHOD:PUBLISH
BEGIN:VEVENT
UID:69e601941e612
DTSTAMP:20260420T103604Z
DTSTART:20190427T140000Z
DTEND:20190608T190000Z
LOCATION:La Chambre - espace d&#039;exposition et de formation à l&#039;image 4 place d'Austerlitz 67000 Strasbourg
SUMMARY:Méfiez-vous des apparences
DESCRIPTION:À première vue\,  on identifie dans les œuvres de Weronika G
 ęsicka l’atmosphère idéale du milieu du XXe siècle\,  en Occident. Le
  baby boom\,  l’insouciance et le confort se parent de couleurs pastel. 
 Des enfants sages et des femmes aux brushings impeccables évoluent dans de
 s cuisines équipées\,  les pères rentrent du travail[..]\nhttps://www.9l
 ives-magazine.com/events/mefiez-apparences-weronika-gesicka/
URL:https://www.9lives-magazine.com/events/mefiez-apparences-weronika-gesicka/
END:VEVENT
END:VCALENDAR