BEGIN:VCALENDAR
VERSION:2.0
PRODID:-//eventon.com NONSGML v1.0//EN
CALSCALE:GREGORIAN
METHOD:PUBLISH
BEGIN:VEVENT
UID:69e65a2e6aeb9
DTSTAMP:20260420T165406Z
DTSTART:20190516T110000Z
DTEND:20190727T190000Z
LOCATION:Galerie Baudoin Lebon 21 rue chapon 75003 Paris
SUMMARY:Lines and Lineage
DESCRIPTION:Baudoin Lebon est fier de présenter cette nouvelle exposition 
 ‘lines and lineage’ autour du travail de Tomas van Houtryve. Artiste pl
 uridisciplinaire\,  journaliste également\,  il est difficile de ranger so
 n travail dans une seule case. En effet\,  son oeuvre mêle avec brio une v
 ision documentaire\,  souvent fruit d’un long travail sur[..]\nhttps://ww
 w.9lives-magazine.com/events/lines-and-lineage-tomas-van-houtryve/
URL:https://www.9lives-magazine.com/events/lines-and-lineage-tomas-van-houtryve/
END:VEVENT
END:VCALENDAR