BEGIN:VCALENDAR
VERSION:2.0
PRODID:-//eventon.com NONSGML v1.0//EN
CALSCALE:GREGORIAN
METHOD:PUBLISH
BEGIN:VEVENT
UID:69e51f0b0d417
DTSTAMP:20260419T182931Z
DTSTART:20190425T090000Z
DTEND:20190615T180000Z
LOCATION:Galerie 1Cube au Studio AZA 34\,  boulevard de la Libération 13001 Marseille
SUMMARY:Aldébaran
DESCRIPTION:Le travail photographique d’Erwan Morère s’articule autour
  de la recherche de points de vue extraordinaires\,  aux frontières de la 
 réalité et du fantasme. Sous l’eau\,  avec la série Malmousque\,  comm
 e dans le ciel\,  avec Sky\,  les photos d’Erwan Morère\,  comme en apes
 anteur\,  créent le trouble. Aujourd’hui\,  Erwan Morère aspire à[..]\
 nhttps://www.9lives-magazine.com/events/aldebaran-erwan-morere/
URL:https://www.9lives-magazine.com/events/aldebaran-erwan-morere/
END:VEVENT
END:VCALENDAR