BEGIN:VCALENDAR
VERSION:2.0
PRODID:-//eventon.com NONSGML v1.0//EN
CALSCALE:GREGORIAN
METHOD:PUBLISH
BEGIN:VEVENT
UID:69e8f648984f6
DTSTAMP:20260422T162440Z
DTSTART:20190606T133000Z
DTEND:20190629T190000Z
LOCATION:Galerie Noëlle Aleyne 18 rue Charlot 75003 Paris
SUMMARY:L'Expérience du Paysage
DESCRIPTION:« La maison est un corps d&rsquo;images et nous vivons cet esp
 ace d&rsquo;intimité si richement parce que la maison est vivante\,  elle 
 établit des pôles d&rsquo;attraction et guide les rêveries auxquelles el
 le donne cours&#8230; » G. Bachelard Emmanuelle GLODT est une artiste plas
 ticienne\,  son travail se situe entre écriture\,  photographie\, [..]\nht
 tps://www.9lives-magazine.com/events/lexperience-paysage-emmanuelle-glodt/
URL:https://www.9lives-magazine.com/events/lexperience-paysage-emmanuelle-glodt/
END:VEVENT
END:VCALENDAR