BEGIN:VCALENDAR
VERSION:2.0
PRODID:-//eventon.com NONSGML v1.0//EN
CALSCALE:GREGORIAN
METHOD:PUBLISH
BEGIN:VEVENT
UID:69e94b548a6da
DTSTAMP:20260422T222732Z
DTSTART:20190618T110000Z
DTEND:20190929T190000Z
LOCATION:Fondation Henri Cartier Bresson 79\,  rue des Archives 75003 Paris
SUMMARY:L'essence du visible
DESCRIPTION:L&rsquo;écrivain américain Wright Morris (1910-1998) innove l
 orsqu&rsquo;il entreprend ses campagnes photographiques\,  cherchant très 
 tôt à « capturer l&rsquo;essence du visible » . La Fondation Henri Ca
 rtier-Bresson propose pour la première fois en France sa double vision pho
 tographique et littéraire de l&rsquo;Amérique. A la différence de ses fi
 ctions souvent centrées sur des personnages[..]\nhttps://www.9lives-magazi
 ne.com/events/lessence-visible-wright-morris/
URL:https://www.9lives-magazine.com/events/lessence-visible-wright-morris/
END:VEVENT
END:VCALENDAR