BEGIN:VCALENDAR
VERSION:2.0
PRODID:-//eventon.com NONSGML v1.0//EN
CALSCALE:GREGORIAN
METHOD:PUBLISH
BEGIN:VEVENT
UID:69eca6dde5c4b
DTSTAMP:20260425T113453Z
DTSTART:20190805T080000Z
DTEND:20190812T200000Z
LOCATION:Salle des régates\,  promenade de la digue 22370 Pléneuf-Val-André
SUMMARY:Le Passage
DESCRIPTION:Exposée cet été à Pléneuf-Val-André (22)\,  Le Passage es
 t une série photographique consacrée à un paysage balnéaire de Bretagne
  unique à l’attraction magnétique: l’îlot du Verdelet et son passage
 ! Le lieu insolite et emblématique de la station de Bretagne nord y est vu
  par le photographe à la manière d’un[..]\nhttps://www.9lives-magazine.
 com/events/passage-sebastien-siraudeau/
URL:https://www.9lives-magazine.com/events/passage-sebastien-siraudeau/
END:VEVENT
END:VCALENDAR