BEGIN:VCALENDAR
VERSION:2.0
PRODID:-//eventon.com NONSGML v1.0//EN
CALSCALE:GREGORIAN
METHOD:PUBLISH
BEGIN:VEVENT
UID:69eade117d2f5
DTSTAMP:20260424T030553Z
DTSTART:20190522T000000Z
DTEND:20191004T000000Z
LOCATION:
SUMMARY:Prix HiP dédiés aux livres de photographie francophones 2019
DESCRIPTION:Les candidatures de cette première édition sont ouvertes aux 
 éditeurs et auteurs jusqu’au 4 octobre sur www.prixhip.com. Inscription 
 gratuite ! Une exposition « à livre ouvert » des lauréats sera présent
 ée en avant-première au Salon de la Photo 2019 23 mai 2019. HiP Histoires
  Photographiques et le Salon de la[..]\nhttps://www.9lives-magazine.com/eve
 nts/prix-hip-dedies-aux-livres-de-photographie-francophones-2019/
URL:https://www.9lives-magazine.com/events/prix-hip-dedies-aux-livres-de-photographie-francophones-2019/
END:VEVENT
END:VCALENDAR