BEGIN:VCALENDAR
VERSION:2.0
PRODID:-//eventon.com NONSGML v1.0//EN
CALSCALE:GREGORIAN
METHOD:PUBLISH
BEGIN:VEVENT
UID:69e7b113d4e27
DTSTAMP:20260421T171707Z
DTSTART:20190623T100000Z
DTEND:20190623T190000Z
LOCATION:Paris Expo Porte de Versailles 1 Place de la Porte de Versailles\,  75015 Paris
SUMMARY:19ème Salon Emmaüs
DESCRIPTION:Cet événement\,  qui prendra\,  par ailleurs\,  une ampleur t
 oute particulière pour sa 19e édition puisque l’année 2019 marque les 
 70 ans de la fondation du mouvement Emmaüs\,  a pour vocation\,  depuis sa
  création\,  de récolter des fonds pour des actions de solidarité intern
 ationale et de donner un écrin dans la[..]\nhttps://www.9lives-magazine.co
 m/events/19eme-salon-emmaus/
URL:https://www.9lives-magazine.com/events/19eme-salon-emmaus/
END:VEVENT
END:VCALENDAR