BEGIN:VCALENDAR
VERSION:2.0
PRODID:-//eventon.com NONSGML v1.0//EN
CALSCALE:GREGORIAN
METHOD:PUBLISH
BEGIN:VEVENT
UID:69ecacc56e459
DTSTAMP:20260425T120005Z
DTSTART:20190603T100000Z
DTEND:20190712T180000Z
LOCATION:Maison des Sciences de l’Homme Paris Nord 20\,  avenue George Sand 93210 Saint Denis
SUMMARY:Comment le monde m’affecte et comment j’affecte le monde ?
DESCRIPTION:Cette exposition curatée par Christine Delory-Momberger rassem
 ble les travaux d&rsquo;un groupe de recherche-création-formation laStoria
  kollektiv automedialité qui vise à l’exploration de la notion d’« a
 utomédialité » en tant que voie signifiante de médiation\,  d’inventi
 on\,  de mise en figures de soi par l’expérience de création. La notion
  d’automédialité appelle à reconnaître[..]\nhttps://www.9lives-magazi
 ne.com/events/monde-maffecte-jaffecte-monde/
URL:https://www.9lives-magazine.com/events/monde-maffecte-jaffecte-monde/
END:VEVENT
END:VCALENDAR