BEGIN:VCALENDAR
VERSION:2.0
PRODID:-//eventon.com NONSGML v1.0//EN
CALSCALE:GREGORIAN
METHOD:PUBLISH
BEGIN:VEVENT
UID:69ed1ed36140b
DTSTAMP:20260425T200643Z
DTSTART:20190701T100000Z
DTEND:20190712T200000Z
LOCATION:Galeries Lafayette Paris Haussmann 40 Boulevard Haussmann\,  75009 Paris
SUMMARY:David de Beyter X Paco Rabanne
DESCRIPTION:Pour la collection Pre-Fall 2019\,  Julien Dossena\,  directeur
  artistique de Paco Rabanne Mode\,  m&rsquo;a invité à immortaliser la no
 uvelle saison dans une série de natures mortes et de paysages. Projet au s
 tatut hybride\,  se situant entre la commande et la carte blanche\,  il pre
 ndra la forme d&rsquo;une exposition aux Galeries[..]\nhttps://www.9lives-m
 agazine.com/events/david-de-beyter-x-paco-rabanne/
URL:https://www.9lives-magazine.com/events/david-de-beyter-x-paco-rabanne/
END:VEVENT
END:VCALENDAR