BEGIN:VCALENDAR
VERSION:2.0
PRODID:-//eventon.com NONSGML v1.0//EN
CALSCALE:GREGORIAN
METHOD:PUBLISH
BEGIN:VEVENT
UID:69e5665b8570d
DTSTAMP:20260419T233347Z
DTSTART:20190907T110000Z
DTEND:20210103T190000Z
LOCATION:La Halle Saint Pierre 2 Rue Ronsard\,  75018 Paris
SUMMARY:Le Monde selon Roger Ballen
DESCRIPTION:À l’origine d’un style unique qu’il décrit lui-même co
 mme «ballenesque »\,  Roger Ballen est l’un des photographes les plus i
 mportants de sa génération. Après avoir acquis une reconnaissance intern
 ationale en collaborant notamment avec le groupe Die Antwoord\,  il utilise
  depuis peu dessins\,  peinture\,  collages et différentes techniques scul
 pturales pour créer[..]\nhttps://www.9lives-magazine.com/events/monde-selo
 n-roger-ballen/
URL:https://www.9lives-magazine.com/events/monde-selon-roger-ballen/
END:VEVENT
END:VCALENDAR