BEGIN:VCALENDAR
VERSION:2.0
PRODID:-//eventon.com NONSGML v1.0//EN
CALSCALE:GREGORIAN
METHOD:PUBLISH
BEGIN:VEVENT
UID:69ea7cea60b7a
DTSTAMP:20260423T201122Z
DTSTART:20190601T100000Z
DTEND:20190930T190000Z
LOCATION:
SUMMARY:Festival La Gacilly Photo
DESCRIPTION:16E ÉDITION À L&rsquo;EST DU NOUVEAU Le Festival Photo La Gac
 illy c’est l’histoire d’une amitié entre des hommes et d’une amiti
 é avec la photographie. Cette dyade au coeur du festival depuis sa créati
 on en 2004 continue de faire vibrer toute l’équipe qui participe à la r
 éalisation de cette 16e édition.[..]\nhttps://www.9lives-magazine.com/eve
 nts/festival-gacilly-photo/
URL:https://www.9lives-magazine.com/events/festival-gacilly-photo/
END:VEVENT
END:VCALENDAR