BEGIN:VCALENDAR
VERSION:2.0
PRODID:-//eventon.com NONSGML v1.0//EN
CALSCALE:GREGORIAN
METHOD:PUBLISH
BEGIN:VEVENT
UID:69e621a5a8abb
DTSTAMP:20260420T125253Z
DTSTART:20190913T130000Z
DTEND:20191026T190000Z
LOCATION:Galerie Folia 13 rue de l'Abbaye 75006 Paris
SUMMARY:A Beginning
DESCRIPTION:Exposée pour la première fois à Paris\,  la série 1994-2001
  / A Beginning est le premier chapitre d’un journal de vie hybride\,  au 
 croisement de la mémoire et de la littérature autobiographique\,  où ré
 alité et fiction se rejoignent. Viscérale\,  personnelle\,  cette série 
 se compose de photographies prises aux quatre coins[..]\nhttps://www.9lives
 -magazine.com/events/a-beginning-lorenzo-castore/
URL:https://www.9lives-magazine.com/events/a-beginning-lorenzo-castore/
END:VEVENT
END:VCALENDAR