BEGIN:VCALENDAR
VERSION:2.0
PRODID:-//eventon.com NONSGML v1.0//EN
CALSCALE:GREGORIAN
METHOD:PUBLISH
BEGIN:VEVENT
UID:69e6a739a83c4
DTSTAMP:20260420T222249Z
DTSTART:20190913T120000Z
DTEND:20191222T190000Z
LOCATION:LE BAL 6\,  Impasse de la défense 75018 Paris
SUMMARY:Les infamies photographiques de Sigmar Polke
DESCRIPTION:Du 13 septembre au 22 décembre 2019\,  LE BAL présente un ens
 emble de photographies inédites de Sigmar Polke. Plus de 150 tirages vinta
 ges et documents inédits réalisés dans les années 1970-1980\,  provenan
 t de la collection personnelle du fils de l’artiste\,  Georg Polke\,  ser
 ont montrés pour la première fois en France.[..]\nhttps://www.9lives-maga
 zine.com/events/infamies-photographiques-de-sigmar-polke/
URL:https://www.9lives-magazine.com/events/infamies-photographiques-de-sigmar-polke/
END:VEVENT
END:VCALENDAR