BEGIN:VCALENDAR
VERSION:2.0
PRODID:-//eventon.com NONSGML v1.0//EN
CALSCALE:GREGORIAN
METHOD:PUBLISH
BEGIN:VEVENT
UID:69e6018af20f2
DTSTAMP:20260420T103554Z
DTSTART:20191018T140000Z
DTEND:20191222T190000Z
LOCATION:La Chambre - espace d&#039;exposition et de formation à l&#039;image 4 place d'Austerlitz 67000 Strasbourg
SUMMARY:La moitié du monde
DESCRIPTION:La Chambre propose une exposition qui questionne la représenta
 tion de la femme en photographie\,  mais aussi son regard en tant qu’arti
 ste. Sujet inépuisable\,  le corps féminin est soumis à toutes les proje
 ctions\,  toutes les influences de l’époque. Il est tiraillé entre conv
 enances\,  traditions\,  modes et aspiration à la liberté\,  voire[..]\nh
 ttps://www.9lives-magazine.com/events/la-moitie-du-monde/
URL:https://www.9lives-magazine.com/events/la-moitie-du-monde/
END:VEVENT
END:VCALENDAR