BEGIN:VCALENDAR
VERSION:2.0
PRODID:-//eventon.com NONSGML v1.0//EN
CALSCALE:GREGORIAN
METHOD:PUBLISH
BEGIN:VEVENT
UID:69ed366e122e7
DTSTAMP:20260425T214726Z
DTSTART:20190627T100000Z
DTEND:20190922T180000Z
LOCATION:CRI des Lumières Place de la deuxième division de cavalerie 54302 Luneville
SUMMARY:After
DESCRIPTION:Le grand photographe américain Walker Evans\,  avec comme assi
 stant Robert Frank\,  présentait\,  en 1955\,  son travail sur la « beaut
 é des outils »\,  outils qu’il avait achetés chez les quincaillers de 
 la 5ème Avenue à New York. Son travail\,  (portfolio intitulé « Beautie
 s of the Common Tool ») fut publié[..]\nhttps://www.9lives-magazine.com/e
 vents/after-walker-evans/
URL:https://www.9lives-magazine.com/events/after-walker-evans/
END:VEVENT
END:VCALENDAR