BEGIN:VCALENDAR
VERSION:2.0
PRODID:-//eventon.com NONSGML v1.0//EN
CALSCALE:GREGORIAN
METHOD:PUBLISH
BEGIN:VEVENT
UID:69e5268f240ca
DTSTAMP:20260419T190135Z
DTSTART:20190801T000000Z
DTEND:20191010T000000Z
LOCATION:
SUMMARY:Daniele Tamagni Grant
DESCRIPTION:Le Prix Daniele Tamagni est une subvention internationale pour 
 la photographie qui finance une bourse d’études supérieures. Conçu pou
 r parrainer de jeunes photographes et des photographes émergents\,  cette 
 initiative favorise la diffusion de la culture africaine\,  sa créativité
 \,  l’impact de son esthétique visuelle sur le continent et la diaspora 
 et[..]\nhttps://www.9lives-magazine.com/events/daniele-tamagni-grant/
URL:https://www.9lives-magazine.com/events/daniele-tamagni-grant/
END:VEVENT
END:VCALENDAR