BEGIN:VCALENDAR
VERSION:2.0
PRODID:-//eventon.com NONSGML v1.0//EN
CALSCALE:GREGORIAN
METHOD:PUBLISH
BEGIN:VEVENT
UID:69ecacceb8c9f
DTSTAMP:20260425T120014Z
DTSTART:20191022T103000Z
DTEND:20191123T190000Z
LOCATION:GNG Art Contemporain 3\,  rue Visconti 75006 Paris
SUMMARY:Marloes der Kinderen\,  Photographies
DESCRIPTION:Elle a fait ses études à ‘Koninklijke Academie Voor Kunst e
 n Vormgeving ‘s Hertogenbosch‘(Académie Royal d’Art et de Design à 
 Bois-le-Duc) Elle vit à mi-temps au Pays Bas et en France en Auvergne\,  H
 aute-Loire et c’est là\,  au bord de l’Allier quelle a réalisé son p
 rojet de photographies et de[..]\nhttps://www.9lives-magazine.com/events/de
 r-kinderen-photographies/
URL:https://www.9lives-magazine.com/events/der-kinderen-photographies/
END:VEVENT
END:VCALENDAR