BEGIN:VCALENDAR
VERSION:2.0
PRODID:-//eventon.com NONSGML v1.0//EN
CALSCALE:GREGORIAN
METHOD:PUBLISH
BEGIN:VEVENT
UID:69e52f6926ffc
DTSTAMP:20260419T193921Z
DTSTART:20191025T110000Z
DTEND:20200223T180000Z
LOCATION:Friche la Belle de Mai 41 Rue Jobin 13003 Marseille
SUMMARY:Un œil sur le dos
DESCRIPTION:Tout voir sans rien montrer de soi. Cela pourrait être la maxi
 me des personnels de surveillance\,  pris entre l&rsquo;envie de rester dan
 s l&rsquo;obscurité et le désir de nous éclairer sur ce qui se passe pou
 r eux dans ces espaces d&rsquo;enfermements. L&rsquo;image produite sur eux
  est symptomatique de cette tension. Quand[..]\nhttps://www.9lives-magazine
 .com/events/oeil-arnaud-theval/
URL:https://www.9lives-magazine.com/events/oeil-arnaud-theval/
END:VEVENT
END:VCALENDAR