BEGIN:VCALENDAR
VERSION:2.0
PRODID:-//eventon.com NONSGML v1.0//EN
CALSCALE:GREGORIAN
METHOD:PUBLISH
BEGIN:VEVENT
UID:69ebc2262a4ea
DTSTAMP:20260424T191902Z
DTSTART:20191016T110000Z
DTEND:20200224T210000Z
LOCATION:Centre Pompidou Place Georges-Pompidou 75004 Paris
SUMMARY:Calais. Témoigner de la « Jungle »
DESCRIPTION:L&rsquo;exposition explore la situation des réfugiés et des e
 xilés installés dans un camp situé aux abords de la ville de Calais\,  s
 urnommé la « Jungle »\,  avant son démantèlement en octobre 2016. Et c
 e\,  à travers trois approches : celle de l’artiste Bruno Serralongue et
  son projet documentaire Calais (2006-2018)\, [..]\nhttps://www.9lives-maga
 zine.com/events/calais-temoigner-de-jungle-bruno-serralongue/
URL:https://www.9lives-magazine.com/events/calais-temoigner-de-jungle-bruno-serralongue/
END:VEVENT
END:VCALENDAR