BEGIN:VCALENDAR
VERSION:2.0
PRODID:-//eventon.com NONSGML v1.0//EN
CALSCALE:GREGORIAN
METHOD:PUBLISH
BEGIN:VEVENT
UID:69ed3e3f0a971
DTSTAMP:20260425T222047Z
DTSTART:20191123T140000Z
DTEND:20200131T190000Z
LOCATION:FermÃ© le Lundi\,  EspÃ¨ce d'Espace Photographique 130 Boulevard de la LibÃ©ration\,  13004 Marseille
SUMMARY:Khaos
DESCRIPTION:Origine du monde (I\,  5-20) Avant la formation de la mer\,  de
  la terre\,  et du ciel qui les environne\,  la nature dans lâ€™univers nâ€
 ™offrait quâ€™un seul aspect ; on lâ€™appela chaos\,  masse grossiÃ¨re\,  i
 nforme\,  qui nâ€™avait que de la pesanteur\,  sans action et sans vie\,  m
 Ã©lange confus dâ€™Ã©lÃ©ments qui[..]\nhttps://www.9lives-magazine.com/even
 ts/khaos-ulrich-lebeuf/
URL:https://www.9lives-magazine.com/events/khaos-ulrich-lebeuf/
END:VEVENT
END:VCALENDAR